Workbook
Name _Hlk93500410: 'FOGLIO CALCOLO PP05_cantiere'!$D$15
Name _Hlk93500410: 'FOGLIO CALCOLO PP05_progetto'!$D$15
Name _Hlk93500410: 'SCHEMA NON MODIFICABILE'!$D$15

Sheet FOGLIO CALCOLO PP05_progetto
G2: PROGETTO/GARA
G3: OBIETTIVO 1 | H3: OBIETTIVO 2 | I3: OBIETTIVO 3 | J3: OBIETTIVO 4 | K3: PROGETTO/GARA
G4: Contenimento delle emissioni | H4: Tutela e salvaguardia degli elementi naturali e storici | I4: Riuso e riciclo | J4: Riduzione Impatto sulla comunità/ambiente sociale/ambiente esterno
A5: NUM. | B5: STRATEGIE | C5: INDICATORI | E5: Unità di misura | F5: Metodologia di calcolo | G5: CLASSI DI RILEVANZA OBIETTIVO | H5: CLASSI DI RILEVANZA OBIETTIVO | I5: CLASSI DI RILEVANZA OBIETTIVO | J5: CLASSI DI RILEVANZA OBIETTIVO | K5: APPROCCIO DP SUGGERITO | L5: APPROCCIO DP | M5: APPROCCIO DIGITALE - FASE DI PROGETTAZIONE | N5: APPROCCIO DP SUGGERITO
A7: 1 | B7: Massimizzazione del riutilizzo delle risorse nell'ambito del cantiere | C7: A | D7: Coefficiente di riutilizzo interno | E7: % | F7: Rapporto tra il quantitativo di risorsa riutilizzata internamente e il quantitativo totale di risorsa prodotta in cantiere | M7: DP1, DP3, DP4, DP6, DP10 | N7: DP3
C8: B | D8: Coefficiente di autosufficienza/autonomia | E8: % | F8: Rapporto tra il quantitativo di risorsa riutilizzata internamente e il quantitativo totale di risorsa necessaria per soddisfare il fabbisogno totale | M8: DP1, DP3, DP4, DP6 | N8: DP3
C9: C | D9: Efficienza di riutilizzo | E9: % | F9: Rapporto tra il quantitativo di risorsa riutilizzata internamente e il quantitativo di risorsa potenzialmente utilizzabile | M9: DP1, DP3, DP4, DP6, DP10 | N9: DP3
A10: 2 | B10: Utilizzo di mezzi e attrezzature basso emissive | C10: A | D10: Caratteristiche mezzi e attrezzature | E10: / | F10: Compilazione check-list | M10: DP1, DP3, DP6, DP7, DP9 | N10: DP1
C11: B | D11: Rapporto mezzi d’opera e/o attrezzature | E11: % | F11: Rapporto tra il numero di mezzi e/o attrezzature basso emissive impiegate in cantiere ed il numero complessivo di mezzi e/o attrezzature complessivamente presenti in situ | M11: DP1, DP3, DP6 | N11: DP1
A12: 3 | B12: Minimizzazione e mitigazione degli impatti dagli agenti fisici | C12: A | D12: Coefficiente di riduzione CO2 in funzione del riutilizzo interno | E12: % | F12: Ton CO2eq riutilizzo interno/ton CO2eq movimentazione totale (compreso riutilizzo interno) | M12: DP1, DP3, DP4, DP6, DP10 | N12: DP10
C13: B | D13: Controllo delle polveri in cantiere | E13: / | F13: Compilazione piano | M13: DP1, DP3, DP5, DP6, DP7, DP8, DP9 | N13: DP9
A14: 4 | B14: Ottimizzazione della localizzazione e della logistica del cantiere (aree, tempi, modalità) | C14: A | D14: Piano dei trasporti di cantiere | E14: / | F14: Compilazione check list/piano | M14: DP1, DP2, DP5, DP7, DP9 | N14: DP9
C15: B | D15: Definizione di un layout di cantiere ottimizzato | E15: / | F15: Compilazione piano | M15: DP1, DP2, DP3, DP4, DP5, DP6, DP7, DP8, DP9 | N15: DP6
C16: C | D16: Coefficiente di impermeabilizzazione aree di cantiere | E16: % | F16: Rapporto tra superficie (mq) delle aree oggetto di protezione/ impermeabilizzazione e le superfici (mq) complessivamente occupate dalle aree di cantiere | M16: DP1, DP2, DP3, DP4, DP6, DP8 | N16: DP8
C17: D | D17: Filtering up | E17: % | F17: Rapporto tra le aree oggetto di interventi di miglioramento (mq) e la superficie complessiva interessata dall’intervento (mq) | M17: DP1, DP2, DP3, DP4, DP6, DP8 | N17: DP8
A18: 5 | B18: Tutela, mitigazione e compensazione delle risorse territoriali locali | C18: A | D18: Piano Gestione Emergenze ambientali | E18: / | F18: Compilazione del piano | M18: DP1, DP5, DP7, DP8, DP9 | N18: DP9
C19: B | D19: Ottimizzazione della predisposizione dei sistemi di trattamento | E19: % | F19: Recuperato/utilizzato | M19: DP1, DP4 | N19: DP4
C20: C | D20: Utilizzo di verde autoctono | E20: % | F20: Numero specie autoctone/ Numero specie totali | M20: DP1, DP3, DP6, DP7, DP8 | N20: DP8
C21: D | D21: Efficienza dell'inserimento paesaggistico | E21: / | F21: Progetto di inserimento paesaggistico e ripristino delle aree di cantiere | M21: DP1, DP2, DP3, DP5, DP6, DP7, DP8 | N21: DP7
A22: 6 | B22: Sinergia con cantieri/opere/interventi/impianti esterni | C22: A | D22: Coefficiente di riutilizzo esterno | E22: % | F22: Rapporto tra il quantitativo di risorsa riutilizzata esternamente e il quantitativo totale di risorsa in esubero | M22: DP1, DP3, DP6, DP10 | N22: DP10
C23: B | D23: Capacità di recupero | E23: % | F23: Rapporto tra il quantitativo di risorsa recuperata in impianti/processi esterni autorizzati e il quantitativo totale di risorsa in esubero gestita in qualità di rifiuto | M23: DP1, DP3, DP6, DP10 | N23: DP10
A24: 7 | B24: Utilizzo di prodotti e tecnologie a basso impatto | C24: A | D24: Coefficiente di utilizzo di prodotti a basso impatto | E24: % | F24: Rapporto tra quantità di prodotti a basso impatto ambientale (contenuto di riciclato, certificazione EPD, ecc) impiegati in cantiere e la quantità complessiva di prodotti approvvigionati (fabbisogno totale) | M24: DP1, DP3, DP6, DP10 | N24: DP10
C25: B | D25: Utilizzo di prodotti con certificazione sul contenuto di riciclato | E25: / | F25: Compilazione check list | M25: DP1, DP3, DP6, DP10 | N25: DP10
C26: C | D26: Coefficiente di riduzione CO2eq in funzione della produzione del prodotto | E26: % | F26: Riduzione di CO2eq | M26: DP1, DP3, DP6, DP10 | N26: DP10
C27: D | D27: Ottimizzazione della scelta dei materiali/prodotti rispetto a manutenibilità e durabilità | E27: / | F27: Compilazione check list | M27: DP1, DP3, DP6, DP10 | N27: DP10
A28: 8 | B28: Decarbonizzazione e razionalizzazione delle fonti energetiche | C28: A | D28: Diagnosi Energetica volta a definire il livello energetico del cantiere rispetto a una baseline di riferimento | E28: / | F28: Compilazione | M28: DP1, DP4, DP10 | N28: DP4
C29: B | D29: Approvvigionamento del vettore Energia Elettrica con soglia % di rinnovabili maggiore rispetto mix energetico nazionale | E29: % | F29: Energia elettrica consumata proveniente da fonti energetiche rinnovabili su base annua (MWh)/fabbisogno di energia elettrica annua (MWh) | M29: DP1, DP10 | N29: DP10
C30: C | D30: Produzione di rinnovabili in cantiere | E30: % | F30: Energia rinnovabile prodotta annua (TEP)/fabbisogno energetico del campo base e del cantiere operativo esclusi i mezzi d’opera e di trasporto (TEP) | M30: DP1, DP10 | N30: DP10
A31: 9 | B31: Comunicazione | C31: A | D31: Segnalazioni/criticità | E31: / | F31: Compilazione documento informativo | M31: DP1, DP5, DP9 | N31: DP1
C32: B | D32: Informative/info point | E32: / | F32: compilazione di documenti informativi ed implementazione di sistemi/presidi/strumenti per la comunicazione | M32: DP1, DP5, DP9 | N32: DP1
C33: C | D33: Visite/incontri | E33: / | F33: compilazione documento informativo | M33: DP1, DP5, DP9 | N33: DP1
C34: D | D34: Protocolli d'intesa | E34: / | F34: Documento esplicativo | M34: DP1 | N34: DP1
A35: 10 | B35: Integrazione degli aspetti sociali | C35: A | D35: Utilizzo di maestranze locali | E35: % | F35: n° maestranze locali impiegate/n° maestranze totali impiegate | M35: DP1 | N35: DP1
C36: B | D36: Coinvolgimento di fornitori locali | E36: % | F36: n° di fornitori locali/ n° fornitori totali | M36: DP1 | N36: DP1
C37: C | D37: Diversità tra i dipendenti | E37: % | F37: n° dipendenti rientranti nelle categorie individuate/n° dipendenti totali | M37: DP1 | N37: DP1
C38: D | D38: Elementi di sostenibilità per la salute e la sicurezza | E38: / | F38: Documento riepilogativo sulla gestione della salute e della sicurezza all’interno del cantiere | M38: DP1, DP9 | N38: DP9
K40: =+SUM(K7:K38) -> 0 | L40: =+SUM(L7:L38) -> 0
J43: CLASSE DI SOSTENIBILITA' DEL CANTIERE IN FASE DI PROGETTO/GARA | L43: =+SUM($G$7:$J$38)+$K$40+$L$40 -> 0 | M43: =+IF(L43<=45,"ADEGUATO",IF(L43>=71,"AVANZATO","MIGLIORATO")) -> ADEGUATO

Sheet FOGLIO CALCOLO PP05_cantiere
G2: PROGETTO | K2: CANTIERE
G3: OBIETTIVO 1 | H3: OBIETTIVO 2 | I3: OBIETTIVO 3 | J3: OBIETTIVO 4 | K3: OBIETTIVO 1 | L3: OBIETTIVO 2 | M3: OBIETTIVO 3 | N3: OBIETTIVO 4 | O3: CANTIERE
G4: Contenimento delle emissioni | H4: Tutela e salvaguardia degli elementi naturali e storici | I4: Riuso e riciclo | J4: Riduzione Impatto sulla comunità/ambiente sociale/ambiente esterno | K4: Contenimento delle emissioni | L4: Tutela e salvaguardia degli elementi naturali e storici | M4: Riuso e riciclo | N4: Riduzione Impatto sulla comunità/ambiente sociale/ambiente esterno
A5: NUM. | B5: STRATEGIE | C5: INDICATORI | E5: Unità di misura | F5: Metodologia di calcolo | G5: CLASSI DI RILEVANZA OBIETTIVO | H5: CLASSI DI RILEVANZA OBIETTIVO | I5: CLASSI DI RILEVANZA OBIETTIVO | J5: CLASSI DI RILEVANZA OBIETTIVO | K5: CLASSI DI RILEVANZA OBIETTIVO | L5: CLASSI DI RILEVANZA OBIETTIVO | M5: CLASSI DI RILEVANZA OBIETTIVO | N5: CLASSI DI RILEVANZA OBIETTIVO | O5: BONUS | P5: APPROCCIO DR SUGGERITO | Q5: APPROCCIO DR | R5: APPROCCIO DIGITALE - FASE DI REALIZZAZIONE | S5: APPROCCIO DP SUGGERITO
A7: 1 | B7: Massimizzazione del riutilizzo delle risorse nell'ambito del cantiere | C7: A | D7: Coefficiente di riutilizzo interno | E7: % | F7: Rapporto tra il quantitativo di risorsa riutilizzata internamente e il quantitativo totale di risorsa prodotta in cantiere | G7: =+'FOGLIO CALCOLO PP05_progetto'!$G$7 -> 0 | H7: =+'FOGLIO CALCOLO PP05_progetto'!$H$7 -> 0 | I7: =+'FOGLIO CALCOLO PP05_progetto'!$I$7 -> 0 | J7: =+'FOGLIO CALCOLO PP05_progetto'!$J$7 -> 0 | R7: DR1, DR2 | S7: DR2
C8: B | D8: Coefficiente di autosufficienza/autonomia | E8: % | F8: Rapporto tra il quantitativo di risorsa riutilizzata internamente e il quantitativo totale di risorsa necessaria per soddisfare il fabbisogno totale | G8: =+'FOGLIO CALCOLO PP05_progetto'!$G$8 -> 0 | H8: =+'FOGLIO CALCOLO PP05_progetto'!$H$8 -> 0 | I8: =+'FOGLIO CALCOLO PP05_progetto'!$I$8 -> 0 | J8: =+'FOGLIO CALCOLO PP05_progetto'!$J$8 -> 0 | R8: DR1, DR2 | S8: DR2
C9: C | D9: Efficienza di riutilizzo | E9: % | F9: Rapporto tra il quantitativo di risorsa riutilizzata internamente e il quantitativo di risorsa potenzialmente utilizzabile | G9: =+'FOGLIO CALCOLO PP05_progetto'!$G$9 -> 0 | H9: =+'FOGLIO CALCOLO PP05_progetto'!$H$9 -> 0 | I9: =+'FOGLIO CALCOLO PP05_progetto'!$I$9 -> 0 | J9: =+'FOGLIO CALCOLO PP05_progetto'!$J$9 -> 0 | R9: DR1, DR2, DR9 | S9: DR2
A10: 2 | B10: Utilizzo di mezzi e attrezzature basso emissive | C10: A | D10: Caratteristiche mezzi e attrezzature | E10: / | F10: Compilazione check-list | G10: =+'FOGLIO CALCOLO PP05_progetto'!$G$10 -> 0 | H10: =+'FOGLIO CALCOLO PP05_progetto'!$H$10 -> 0 | I10: =+'FOGLIO CALCOLO PP05_progetto'!$I$10 -> 0 | J10: =+'FOGLIO CALCOLO PP05_progetto'!$J$10 -> 0 | R10: DR1, DR6, DR8 | S10: DR1
C11: B | D11: Rapporto mezzi d’opera e/o attrezzature | E11: % | F11: Rapporto tra il numero di mezzi e/o attrezzature basso emissive impiegate in cantiere ed il numero complessivo di mezzi e/o attrezzature complessivamente presenti in situ | G11: =+'FOGLIO CALCOLO PP05_progetto'!$G$11 -> 0 | H11: =+'FOGLIO CALCOLO PP05_progetto'!$H$11 -> 0 | I11: =+'FOGLIO CALCOLO PP05_progetto'!$I$11 -> 0 | J11: =+'FOGLIO CALCOLO PP05_progetto'!$J$11 -> 0 | R11: DR1 | S11: DR1
A12: 3 | B12: Minimizzazione e mitigazione degli impatti dagli agenti fisici | C12: A | D12: Coefficiente di riduzione CO2 in funzione del riutilizzo interno | E12: % | F12: Ton CO2eq riutilizzo interno/ton CO2eq movimentazione totale (compreso riutilizzo interno) | G12: =+'FOGLIO CALCOLO PP05_progetto'!$G$12 -> 0 | H12: =+'FOGLIO CALCOLO PP05_progetto'!$H$12 -> 0 | I12: =+'FOGLIO CALCOLO PP05_progetto'!$I$12 -> 0 | J12: =+'FOGLIO CALCOLO PP05_progetto'!$J$12 -> 0 | R12: DR1 | S12: DR1
C13: B | D13: Controllo delle polveri in cantiere | E13: / | F13: Compilazione piano | G13: =+'FOGLIO CALCOLO PP05_progetto'!$G$13 -> 0 | H13: =+'FOGLIO CALCOLO PP05_progetto'!$H$13 -> 0 | I13: =+'FOGLIO CALCOLO PP05_progetto'!$I$13 -> 0 | J13: =+'FOGLIO CALCOLO PP05_progetto'!$J$13 -> 0 | R13: DR1, DR3, DR5, DR6 | S13: DR3
A14: 4 | B14: Ottimizzazione della localizzazione e della logistica del cantiere (aree, tempi, modalità) | C14: A | D14: Piano dei trasporti di cantiere | E14: / | F14: Compilazione check list/piano | G14: =+'FOGLIO CALCOLO PP05_progetto'!$G$14 -> 0 | H14: =+'FOGLIO CALCOLO PP05_progetto'!$H$14 -> 0 | I14: =+'FOGLIO CALCOLO PP05_progetto'!$I$14 -> 0 | J14: =+'FOGLIO CALCOLO PP05_progetto'!$J$14 -> 0 | R14: DR1, DR4, DR5, DR6, DR9 | S14: DR6
C15: B | D15: Definizione di un layout di cantiere ottimizzato | E15: / | F15: Compilazione piano | G15: =+'FOGLIO CALCOLO PP05_progetto'!$G$15 -> 0 | H15: =+'FOGLIO CALCOLO PP05_progetto'!$H$15 -> 0 | I15: =+'FOGLIO CALCOLO PP05_progetto'!$I$15 -> 0 | J15: =+'FOGLIO CALCOLO PP05_progetto'!$J$15 -> 0 | R15: DR1, DR4, DR5, DR6, DR7 | S15: DR5
C16: C | D16: Coefficiente di impermeabilizzazione aree di cantiere | E16: % | F16: Rapporto tra superficie (mq) delle aree oggetto di protezione/ impermeabilizzazione e le superfici (mq) complessivamente occupate dalle aree di cantiere | G16: =+'FOGLIO CALCOLO PP05_progetto'!$G$16 -> 0 | H16: =+'FOGLIO CALCOLO PP05_progetto'!$H$16 -> 0 | I16: =+'FOGLIO CALCOLO PP05_progetto'!$I$16 -> 0 | J16: =+'FOGLIO CALCOLO PP05_progetto'!$J$16 -> 0 | R16: DR1, DR3, DR5 | S16: DR5
C17: D | D17: Filtering up | E17: % | F17: Rapporto tra le aree oggetto di interventi di miglioramento (mq) e la superficie complessiva interessata dall’intervento (mq) | G17: =+'FOGLIO CALCOLO PP05_progetto'!$G$17 -> 0 | H17: =+'FOGLIO CALCOLO PP05_progetto'!$H$17 -> 0 | I17: =+'FOGLIO CALCOLO PP05_progetto'!$I$17 -> 0 | J17: =+'FOGLIO CALCOLO PP05_progetto'!$J$17 -> 0 | R17: DR1, DR3, DR5 | S17: DR5
A18: 5 | B18: Tutela, mitigazione e compensazione delle risorse territoriali locali | C18: A | D18: Piano Gestione Emergenze ambientali | E18: / | F18: Compilazione del piano | G18: =+'FOGLIO CALCOLO PP05_progetto'!$G$18 -> 0 | H18: =+'FOGLIO CALCOLO PP05_progetto'!$H$18 -> 0 | I18: =+'FOGLIO CALCOLO PP05_progetto'!$I$18 -> 0 | J18: =+'FOGLIO CALCOLO PP05_progetto'!$J$18 -> 0 | R18: DR1, DR4, DR5, DR6, DR7 | S18: DR6
C19: B | D19: Ottimizzazione della predisposizione dei sistemi di trattamento | E19: % | F19: Recuperato/utilizzato | G19: =+'FOGLIO CALCOLO PP05_progetto'!$G$19 -> 0 | H19: =+'FOGLIO CALCOLO PP05_progetto'!$H$19 -> 0 | I19: =+'FOGLIO CALCOLO PP05_progetto'!$I$19 -> 0 | J19: =+'FOGLIO CALCOLO PP05_progetto'!$J$19 -> 0 | R19: DR1, DR3 | S19: DR3
C20: C | D20: Utilizzo di verde autoctono | E20: % | F20: Numero specie autoctone/ Numero specie totali | G20: =+'FOGLIO CALCOLO PP05_progetto'!$G$20 -> 0 | H20: =+'FOGLIO CALCOLO PP05_progetto'!$H$20 -> 0 | I20: =+'FOGLIO CALCOLO PP05_progetto'!$I$20 -> 0 | J20: =+'FOGLIO CALCOLO PP05_progetto'!$J$20 -> 0 | R20: DR1, DR2, DR7 | S20: DR2
C21: D | D21: Efficienza dell'inserimento paesaggistico | E21: / | F21: Progetto di inserimento paesaggistico e ripristino delle aree di cantiere | G21: =+'FOGLIO CALCOLO PP05_progetto'!$G$21 -> 0 | H21: =+'FOGLIO CALCOLO PP05_progetto'!$H$21 -> 0 | I21: =+'FOGLIO CALCOLO PP05_progetto'!$I$21 -> 0 | J21: =+'FOGLIO CALCOLO PP05_progetto'!$J$21 -> 0 | R21: DR1, DR2, DR5, DR7 | S21: DR5
A22: 6 | B22: Sinergia con cantieri/opere/interventi/impianti esterni | C22: A | D22: Coefficiente di riutilizzo esterno | E22: % | F22: Rapporto tra il quantitativo di risorsa riutilizzata esternamente e il quantitativo totale di risorsa in esubero | G22: =+'FOGLIO CALCOLO PP05_progetto'!$G$22 -> 0 | H22: =+'FOGLIO CALCOLO PP05_progetto'!$H$22 -> 0 | I22: =+'FOGLIO CALCOLO PP05_progetto'!$I$22 -> 0 | J22: =+'FOGLIO CALCOLO PP05_progetto'!$J$22 -> 0 | R22: DR1 | S22: DR1
C23: B | D23: Capacità di recupero | E23: % | F23: Rapporto tra il quantitativo di risorsa recuperata in impianti/processi esterni autorizzati e il quantitativo totale di risorsa in esubero gestita in qualità di rifiuto | G23: =+'FOGLIO CALCOLO PP05_progetto'!$G$23 -> 0 | H23: =+'FOGLIO CALCOLO PP05_progetto'!$H$23 -> 0 | I23: =+'FOGLIO CALCOLO PP05_progetto'!$I$23 -> 0 | J23: =+'FOGLIO CALCOLO PP05_progetto'!$J$23 -> 0 | R23: DR1 | S23: DR1
A24: 7 | B24: Utilizzo di prodotti e tecnologie a basso impatto | C24: A | D24: Coefficiente di utilizzo di prodotti a basso impatto | E24: % | F24: Rapporto tra quantità di prodotti a basso impatto ambientale (contenuto di riciclato, certificazione EPD, ecc) impiegati in cantiere e la quantità complessiva di prodotti approvvigionati (fabbisogno totale) | G24: =+'FOGLIO CALCOLO PP05_progetto'!$G$24 -> 0 | H24: =+'FOGLIO CALCOLO PP05_progetto'!$H$24 -> 0 | I24: =+'FOGLIO CALCOLO PP05_progetto'!$I$24 -> 0 | J24: =+'FOGLIO CALCOLO PP05_progetto'!$J$24 -> 0 | R24: DR1 | S24: DR1
C25: B | D25: Utilizzo di prodotti con certificazione sul contenuto di riciclato | E25: / | F25: Compilazione check list | G25: =+'FOGLIO CALCOLO PP05_progetto'!$G$25 -> 0 | H25: =+'FOGLIO CALCOLO PP05_progetto'!$H$25 -> 0 | I25: =+'FOGLIO CALCOLO PP05_progetto'!$I$25 -> 0 | J25: =+'FOGLIO CALCOLO PP05_progetto'!$J$25 -> 0 | R25: DR1, DR8 | S25: DR8
C26: C | D26: Coefficiente di riduzione CO2eq in funzione della produzione del prodotto | E26: % | F26: Riduzione di CO2eq | G26: =+'FOGLIO CALCOLO PP05_progetto'!$G$26 -> 0 | H26: =+'FOGLIO CALCOLO PP05_progetto'!$H$26 -> 0 | I26: =+'FOGLIO CALCOLO PP05_progetto'!$I$26 -> 0 | J26: =+'FOGLIO CALCOLO PP05_progetto'!$J$26 -> 0 | R26: DR1, DR8 | S26: DR8
C27: D | D27: Ottimizzazione della scelta dei materiali/prodotti rispetto a manutenibilità e durabilità | E27: / | F27: Compilazione check list | G27: =+'FOGLIO CALCOLO PP05_progetto'!$G$27 -> 0 | H27: =+'FOGLIO CALCOLO PP05_progetto'!$H$27 -> 0 | I27: =+'FOGLIO CALCOLO PP05_progetto'!$I$27 -> 0 | J27: =+'FOGLIO CALCOLO PP05_progetto'!$J$27 -> 0 | R27: DR1, DR8 | S27: DR8
A28: 8 | B28: Decarbonizzazione e razionalizzazione delle fonti energetiche | C28: A | D28: Diagnosi Energetica volta a definire il livello energetico del cantiere rispetto a una baseline di riferimento | E28: / | F28: Compilazione | G28: =+'FOGLIO CALCOLO PP05_progetto'!$G$28 -> 0 | H28: =+'FOGLIO CALCOLO PP05_progetto'!$H$28 -> 0 | I28: =+'FOGLIO CALCOLO PP05_progetto'!$I$28 -> 0 | J28: =+'FOGLIO CALCOLO PP05_progetto'!$J$28 -> 0 | R28: DR1, DR3 | S28: DR3
C29: B | D29: Approvvigionamento del vettore Energia Elettrica con soglia % di rinnovabili maggiore rispetto mix energetico nazionale | E29: % | F29: Energia elettrica consumata proveniente da fonti energetiche rinnovabili su base annua (MWh)/fabbisogno di energia elettrica annua (MWh) | G29: =+'FOGLIO CALCOLO PP05_progetto'!$G$29 -> 0 | H29: =+'FOGLIO CALCOLO PP05_progetto'!$H$29 -> 0 | I29: =+'FOGLIO CALCOLO PP05_progetto'!$I$29 -> 0 | J29: =+'FOGLIO CALCOLO PP05_progetto'!$J$29 -> 0 | R29: DR1 | S29: DR1
C30: C | D30: Produzione di rinnovabili in cantiere | E30: % | F30: Energia rinnovabile prodotta annua (TEP)/fabbisogno energetico del campo base e del cantiere operativo esclusi i mezzi d’opera e di trasporto (TEP) | G30: =+'FOGLIO CALCOLO PP05_progetto'!$G$30 -> 0 | H30: =+'FOGLIO CALCOLO PP05_progetto'!$H$30 -> 0 | I30: =+'FOGLIO CALCOLO PP05_progetto'!$I$30 -> 0 | J30: =+'FOGLIO CALCOLO PP05_progetto'!$J$30 -> 0 | R30: DR1, DR3 | S30: DR3
A31: 9 | B31: Comunicazione | C31: A | D31: Segnalazioni/criticità | E31: / | F31: Compilazione documento informativo | G31: =+'FOGLIO CALCOLO PP05_progetto'!$G$31 -> 0 | H31: =+'FOGLIO CALCOLO PP05_progetto'!$H$31 -> 0 | I31: =+'FOGLIO CALCOLO PP05_progetto'!$I$31 -> 0 | J31: =+'FOGLIO CALCOLO PP05_progetto'!$J$31 -> 0 | R31: DR1, DR3, DR5, DR6, DR7, DR8, DR10 | S31: DR1
C32: B | D32: Informative/info point | E32: / | F32: compilazione di documenti informativi ed implementazione di sistemi/presidi/strumenti per la comunicazione | G32: =+'FOGLIO CALCOLO PP05_progetto'!$G$32 -> 0 | H32: =+'FOGLIO CALCOLO PP05_progetto'!$H$32 -> 0 | I32: =+'FOGLIO CALCOLO PP05_progetto'!$I$32 -> 0 | J32: =+'FOGLIO CALCOLO PP05_progetto'!$J$32 -> 0 | R32: DR1, DR6, DR7, DR8, DR10 | S32: DR1
C33: C | D33: Visite/incontri | E33: / | F33: compilazione documento informativo | G33: =+'FOGLIO CALCOLO PP05_progetto'!$G$33 -> 0 | H33: =+'FOGLIO CALCOLO PP05_progetto'!$H$33 -> 0 | I33: =+'FOGLIO CALCOLO PP05_progetto'!$I$33 -> 0 | J33: =+'FOGLIO CALCOLO PP05_progetto'!$J$33 -> 0 | R33: DR1, DR6, DR7, DR8, DR10 | S33: DR1
C34: D | D34: Protocolli d'intesa | E34: / | F34: Documento esplicativo | G34: =+'FOGLIO CALCOLO PP05_progetto'!$G$34 -> 0 | H34: =+'FOGLIO CALCOLO PP05_progetto'!$H$34 -> 0 | I34: =+'FOGLIO CALCOLO PP05_progetto'!$I$34 -> 0 | J34: =+'FOGLIO CALCOLO PP05_progetto'!$J$34 -> 0 | R34: DR1 | S34: DR1
A35: 10 | B35: Integrazione degli aspetti sociali | C35: A | D35: Utilizzo di maestranze locali | E35: % | F35: n° maestranze locali impiegate/n° maestranze totali impiegate | G35: =+'FOGLIO CALCOLO PP05_progetto'!$G$35 -> 0 | H35: =+'FOGLIO CALCOLO PP05_progetto'!$H$35 -> 0 | I35: =+'FOGLIO CALCOLO PP05_progetto'!$I$35 -> 0 | J35: =+'FOGLIO CALCOLO PP05_progetto'!$J$35 -> 0 | R35: DR1 | S35: DR1
C36: B | D36: Coinvolgimento di fornitori locali | E36: % | F36: n° di fornitori locali/ n° fornitori totali | G36: =+'FOGLIO CALCOLO PP05_progetto'!$G$36 -> 0 | H36: =+'FOGLIO CALCOLO PP05_progetto'!$H$36 -> 0 | I36: =+'FOGLIO CALCOLO PP05_progetto'!$I$36 -> 0 | J36: =+'FOGLIO CALCOLO PP05_progetto'!$J$36 -> 0 | R36: DR1 | S36: DR1
C37: C | D37: Diversità tra i dipendenti | E37: % | F37: n° dipendenti rientranti nelle categorie individuate/n° dipendenti totali | G37: =+'FOGLIO CALCOLO PP05_progetto'!$G$37 -> 0 | H37: =+'FOGLIO CALCOLO PP05_progetto'!$H$37 -> 0 | I37: =+'FOGLIO CALCOLO PP05_progetto'!$I$37 -> 0 | J37: =+'FOGLIO CALCOLO PP05_progetto'!$J$37 -> 0 | R37: DR1 | S37: DR1
C38: D | D38: Elementi di sostenibilità per la salute e la sicurezza | E38: / | F38: Documento riepilogativo sulla gestione della salute e della sicurezza all’interno del cantiere | G38: =+'FOGLIO CALCOLO PP05_progetto'!$G$38 -> 0 | H38: =+'FOGLIO CALCOLO PP05_progetto'!$H$38 -> 0 | I38: =+'FOGLIO CALCOLO PP05_progetto'!$I$38 -> 0 | J38: =+'FOGLIO CALCOLO PP05_progetto'!$J$38 -> 0 | R38: DR1, DR6 | S38: DR6
O40: =+SUM(O7:O38) -> 0 | P40: =+SUM(P7:P38) -> 0 | Q40: =+SUM(Q7:Q38) -> 0
N43: CLASSE DI SOSTENIBILITA' DEL CANTIERE IN FASE DI PROGETTO/GARA | P43: =+'FOGLIO CALCOLO PP05_progetto'!$L$43 -> 0 | Q43: =+'[1]FOGLIO CALCOLO PP05_progetto'!M43 -> ADEGUATO
N45: CLASSE DI SOSTENIBILITA' DEL CANTIERE IN FASE DI REALIZZAZIONE | P45: =+SUM($K$7:$N$38)+$O$40+P40+$Q$40 -> 0 | Q45: =+IF(P45<=45,"ADEGUATO",IF(P45>=71,"AVANZATO","MIGLIORATO")) -> ADEGUATO
N47: CLASSE DI SOSTENIBILITA' FINALE DEL CANTIERE | P47: =+$P$43+$P$45 -> 0 | Q47: =+IF(P47<=45,"ADEGUATO",IF(P47>=71,"AVANZATO","MIGLIORATO")) -> ADEGUATO

Sheet SCHEMA NON MODIFICABILE
G3: OBIETTIVO 1 | H3: OBIETTIVO 2 | I3: OBIETTIVO 3 | J3: OBIETTIVO 4 | K3: PROGETTO/GARA | O3: CANTIERE
G4: Contenimento delle emissioni | H4: Tutela e salvaguardia degli elementi naturali e storici | I4: Riuso e riciclo | J4: Riduzione Impatto sulla comunità/ambiente sociale/ambiente esterno
A5: NUM. | B5: STRATEGIE | C5: INDICATORI | E5: Unità di misura | F5: Metodologia di calcolo | G5: CLASSI DI RILEVANZA OBIETTIVO | H5: CLASSI DI RILEVANZA OBIETTIVO | I5: CLASSI DI RILEVANZA OBIETTIVO | J5: CLASSI DI RILEVANZA OBIETTIVO | K5: APPROCCIO DP SUGGERITO | L5: APPROCCIO DP | M5: APPROCCIO DIGITALE - FASE DI PROGETTAZIONE | N5: APPROCCIO DP SUGGERITO | O5: BONUS | P5: APPROCCIO DR SUGGERITO | Q5: APPROCCIO DR | R5: APPROCCIO DIGITALE - FASE DI REALIZZAZIONE | S5: APPROCCIO DP SUGGERITO
A7: 1 | B7: Massimizzazione del riutilizzo delle risorse nell'ambito del cantiere | C7: A | D7: Coefficiente di riutilizzo interno | E7: % | F7: Rapporto tra il quantitativo di risorsa riutilizzata internamente e il quantitativo totale di risorsa prodotta in cantiere | G7: 3 | I7: 3 | J7: 1 | K7: 0.2 | L7: 0.1 | M7: DP1, DP3, DP4, DP6, DP10 | N7: DP3 | P7: 0.2 | Q7: 0.1 | R7: DR1, DR2 | S7: DR2
C8: B | D8: Coefficiente di autosufficienza/autonomia | E8: % | F8: Rapporto tra il quantitativo di risorsa riutilizzata internamente e il quantitativo totale di risorsa necessaria per soddisfare il fabbisogno totale | G8: 3 | I8: 3 | J8: 1 | K8: 0.2 | L8: 0.1 | M8: DP1, DP3, DP4, DP6 | N8: DP3 | P8: 0.2 | Q8: 0.1 | R8: DR1, DR2 | S8: DR2
C9: C | D9: Efficienza di riutilizzo | E9: % | F9: Rapporto tra il quantitativo di risorsa riutilizzata internamente e il quantitativo di risorsa potenzialmente utilizzabile | G9: 2 | I9: 3 | J9: 1 | K9: 0.2 | L9: 0.1 | M9: DP1, DP3, DP4, DP6, DP10 | N9: DP3 | P9: 0.2 | Q9: 0.1 | R9: DR1, DR2, DR9 | S9: DR2
A10: 2 | B10: Utilizzo di mezzi e attrezzature basso emissive | C10: A | D10: Caratteristiche mezzi e attrezzature | E10: / | F10: Compilazione check-list | G10: 2 | J10: 2 | K10: 0.2 | L10: 0.1 | M10: DP1, DP3, DP6, DP7, DP9 | N10: DP1 | P10: 0.2 | Q10: 0.1 | R10: DR1, DR6, DR8 | S10: DR1
C11: B | D11: Rapporto mezzi d’opera e/o attrezzature | E11: % | F11: Rapporto tra il numero di mezzi e/o attrezzature basso emissive impiegate in cantiere ed il numero complessivo di mezzi e/o attrezzature complessivamente presenti in situ | G11: 1 | J11: 2 | K11: 0.2 | L11: 0.1 | M11: DP1, DP3, DP6 | N11: DP1 | P11: 0.2 | Q11: 0.1 | R11: DR1 | S11: DR1
A12: 3 | B12: Minimizzazione e mitigazione degli impatti dagli agenti fisici | C12: A | D12: Coefficiente di riduzione CO2 in funzione del riutilizzo interno | E12: % | F12: Ton CO2eq riutilizzo interno/ton CO2eq movimentazione totale (compreso riutilizzo interno) | G12: 3 | H12: 1 | I12: 2 | J12: 3 | K12: 0.2 | L12: 0.1 | M12: DP1, DP3, DP4, DP6, DP10 | N12: DP10 | P12: 0.2 | Q12: 0.1 | R12: DR1 | S12: DR1
C13: B | D13: Controllo delle polveri in cantiere | E13: / | F13: Compilazione piano | G13: 3 | H13: 2 | I13: 1 | J13: 3 | K13: 0.2 | L13: 0.1 | M13: DP1, DP3, DP5, DP6, DP7, DP8, DP9 | N13: DP9 | P13: 0.2 | Q13: 0.1 | R13: DR1, DR3, DR5, DR6 | S13: DR3
A14: 4 | B14: Ottimizzazione della localizzazione e della logistica del cantiere (aree, tempi, modalità) | C14: A | D14: Piano dei trasporti di cantiere | E14: / | F14: Compilazione check list/piano | G14: 3 | H14: 1 | I14: 1 | J14: 3 | K14: 0.2 | L14: 0.1 | M14: DP1, DP2, DP5, DP7, DP9 | N14: DP9 | P14: 0.2 | Q14: 0.1 | R14: DR1, DR4, DR5, DR6, DR9 | S14: DR6
C15: B | D15: Definizione di un layout di cantiere ottimizzato | E15: / | F15: Compilazione piano | G15: 2 | H15: 1 | I15: 1 | J15: 3 | K15: 0.2 | L15: 0.1 | M15: DP1, DP2, DP3, DP4, DP5, DP6, DP7, DP8, DP9 | N15: DP6 | P15: 0.2 | Q15: 0.1 | R15: DR1, DR4, DR5, DR6, DR7 | S15: DR5
C16: C | D16: Coefficiente di impermeabilizzazione aree di cantiere | E16: % | F16: Rapporto tra superficie (mq) delle aree oggetto di protezione/ impermeabilizzazione e le superfici (mq) complessivamente occupate dalle aree di cantiere | G16: 2 | H16: 2 | I16: 2 | J16: 2 | K16: 0.2 | L16: 0.1 | M16: DP1, DP2, DP3, DP4, DP6, DP8 | N16: DP8 | P16: 0.2 | Q16: 0.1 | R16: DR1, DR3, DR5 | S16: DR5
C17: D | D17: Filtering up | E17: % | F17: Rapporto tra le aree oggetto di interventi di miglioramento (mq) e la superficie complessiva interessata dall’intervento (mq) | G17: 1 | H17: 2 | I17: 1 | J17: 2 | K17: 0.2 | L17: 0.1 | M17: DP1, DP2, DP3, DP4, DP6, DP8 | N17: DP8 | P17: 0.2 | Q17: 0.1 | R17: DR1, DR3, DR5 | S17: DR5
A18: 5 | B18: Tutela, mitigazione e compensazione delle risorse territoriali locali | C18: A | D18: Piano Gestione Emergenze ambientali | E18: / | F18: Compilazione del piano | G18: 1 | H18: 1 | I18: 1 | J18: 2 | K18: 0.2 | L18: 0.1 | M18: DP1, DP5, DP7, DP8, DP9 | N18: DP9 | P18: 0.2 | Q18: 0.1 | R18: DR1, DR4, DR5, DR6, DR7 | S18: DR6
C19: B | D19: Ottimizzazione della predisposizione dei sistemi di trattamento | E19: % | F19: Recuperato/utilizzato | G19: 1 | H19: 2 | I19: 3 | J19: 3 | K19: 0.2 | L19: 0.1 | M19: DP1, DP4 | N19: DP4 | P19: 0.2 | Q19: 0.1 | R19: DR1, DR3 | S19: DR3
C20: C | D20: Utilizzo di verde autoctono | E20: % | F20: Numero specie autoctone/ Numero specie totali | G20: 1 | H20: 3 | I20: 2 | J20: 3 | K20: 0.2 | L20: 0.1 | M20: DP1, DP3, DP6, DP7, DP8 | N20: DP8 | P20: 0.2 | Q20: 0.1 | R20: DR1, DR2, DR7 | S20: DR2
C21: D | D21: Efficienza dell'inserimento paesaggistico | E21: / | F21: Progetto di inserimento paesaggistico e ripristino delle aree di cantiere | G21: 1 | H21: 2 | I21: 1 | J21: 3 | K21: 0.2 | L21: 0.1 | M21: DP1, DP2, DP3, DP5, DP6, DP7, DP8 | N21: DP7 | P21: 0.2 | Q21: 0.1 | R21: DR1, DR2, DR5, DR7 | S21: DR5
A22: 6 | B22: Sinergia con cantieri/opere/interventi/impianti esterni | C22: A | D22: Coefficiente di riutilizzo esterno | E22: % | F22: Rapporto tra il quantitativo di risorsa riutilizzata esternamente e il quantitativo totale di risorsa in esubero | G22: 3 | I22: 3 | K22: 0.2 | L22: 0.1 | M22: DP1, DP3, DP6, DP10 | N22: DP10 | P22: 0.2 | Q22: 0.1 | R22: DR1 | S22: DR1
C23: B | D23: Capacità di recupero | E23: % | F23: Rapporto tra il quantitativo di risorsa recuperata in impianti/processi esterni autorizzati e il quantitativo totale di risorsa in esubero gestita in qualità di rifiuto | G23: 3 | I23: 3 | K23: 0.2 | L23: 0.1 | M23: DP1, DP3, DP6, DP10 | N23: DP10 | P23: 0.2 | Q23: 0.1 | R23: DR1 | S23: DR1
A24: 7 | B24: Utilizzo di prodotti e tecnologie a basso impatto | C24: A | D24: Coefficiente di utilizzo di prodotti a basso impatto | E24: % | F24: Rapporto tra quantità di prodotti a basso impatto ambientale (contenuto di riciclato, certificazione EPD, ecc) impiegati in cantiere e la quantità complessiva di prodotti approvvigionati (fabbisogno totale) | G24: 2 | H24: 1 | I24: 1 | J24: 2 | K24: 0.2 | L24: 0.1 | M24: DP1, DP3, DP6, DP10 | N24: DP10 | P24: 0.2 | Q24: 0.1 | R24: DR1 | S24: DR1
C25: B | D25: Utilizzo di prodotti con certificazione sul contenuto di riciclato | E25: / | F25: Compilazione check list | G25: 2 | H25: 1 | I25: 3 | J25: 1 | K25: 0.2 | L25: 0.1 | M25: DP1, DP3, DP6, DP10 | N25: DP10 | P25: 0.2 | Q25: 0.1 | R25: DR1, DR8 | S25: DR8
C26: C | D26: Coefficiente di riduzione CO2eq in funzione della produzione del prodotto | E26: % | F26: Riduzione di CO2eq | G26: 3 | H26: 1 | I26: 2 | J26: 1 | K26: 0.2 | L26: 0.1 | M26: DP1, DP3, DP6, DP10 | N26: DP10 | P26: 0.2 | Q26: 0.1 | R26: DR1, DR8 | S26: DR8
C27: D | D27: Ottimizzazione della scelta dei materiali/prodotti rispetto a manutenibilità e durabilità | E27: / | F27: Compilazione check list | G27: 1 | H27: 1 | I27: 2 | J27: 2 | K27: 0.2 | L27: 0.1 | M27: DP1, DP3, DP6, DP10 | N27: DP10 | P27: 0.2 | Q27: 0.1 | R27: DR1, DR8 | S27: DR8
A28: 8 | B28: Decarbonizzazione e razionalizzazione delle fonti energetiche | C28: A | D28: Diagnosi Energetica volta a definire il livello energetico del cantiere rispetto a una baseline di riferimento | E28: / | F28: Compilazione | G28: 1 | H28: 1 | I28: 1 | J28: 1 | K28: 0.2 | L28: 0.1 | M28: DP1, DP4, DP10 | N28: DP4 | P28: 0.2 | Q28: 0.1 | R28: DR1, DR3 | S28: DR3
C29: B | D29: Approvvigionamento del vettore Energia Elettrica con soglia % di rinnovabili maggiore rispetto mix energetico nazionale | E29: % | F29: Energia elettrica consumata proveniente da fonti energetiche rinnovabili su base annua (MWh)/fabbisogno di energia elettrica annua (MWh) | G29: 3 | H29: 1 | I29: 3 | J29: 3 | K29: 0.2 | L29: 0.1 | M29: DP1, DP10 | N29: DP10 | P29: 0.2 | Q29: 0.1 | R29: DR1 | S29: DR1
C30: C | D30: Produzione di rinnovabili in cantiere | E30: % | F30: Energia rinnovabile prodotta annua (TEP)/fabbisogno energetico del campo base e del cantiere operativo esclusi i mezzi d’opera e di trasporto (TEP) | G30: 3 | H30: 1 | I30: 3 | J30: 3 | K30: 0.2 | L30: 0.1 | M30: DP1, DP10 | N30: DP10 | P30: 0.2 | Q30: 0.1 | R30: DR1, DR3 | S30: DR3
A31: 9 | B31: Comunicazione | C31: A | D31: Segnalazioni/criticità | E31: / | F31: Compilazione documento informativo | G31: 2 | H31: 3 | I31: 1 | J31: 2 | K31: 0.2 | L31: 0.1 | M31: DP1, DP5, DP9 | N31: DP1 | P31: 0.2 | Q31: 0.1 | R31: DR1, DR3, DR5, DR6, DR7, DR8, DR10 | S31: DR1
C32: B | D32: Informative/info point | E32: / | F32: compilazione di documenti informativi ed implementazione di sistemi/presidi/strumenti per la comunicazione | G32: 1 | H32: 3 | I32: 1 | J32: 3 | K32: 0.2 | L32: 0.1 | M32: DP1, DP5, DP9 | N32: DP1 | P32: 0.2 | Q32: 0.1 | R32: DR1, DR6, DR7, DR8, DR10 | S32: DR1
C33: C | D33: Visite/incontri | E33: / | F33: compilazione documento informativo | G33: 1 | H33: 1 | I33: 1 | J33: 3 | K33: 0.2 | L33: 0.1 | M33: DP1, DP5, DP9 | N33: DP1 | P33: 0.2 | Q33: 0.1 | R33: DR1, DR6, DR7, DR8, DR10 | S33: DR1
C34: D | D34: Protocolli d'intesa | E34: / | F34: Documento esplicativo | G34: 2 | H34: 2 | I34: 2 | J34: 3 | K34: 0.2 | L34: 0.1 | M34: DP1 | N34: DP1 | P34: 0.2 | Q34: 0.1 | R34: DR1 | S34: DR1
A35: 10 | B35: Integrazione degli aspetti sociali | C35: A | D35: Utilizzo di maestranze locali | E35: % | F35: n° maestranze locali impiegate/n° maestranze totali impiegate | G35: 2 | H35: 1 | I35: 1 | J35: 3 | K35: 0.2 | L35: 0.1 | M35: DP1 | N35: DP1 | P35: 0.2 | Q35: 0.1 | R35: DR1 | S35: DR1
C36: B | D36: Coinvolgimento di fornitori locali | E36: % | F36: n° di fornitori locali/ n° fornitori totali | G36: 3 | H36: 1 | I36: 1 | J36: 3 | K36: 0.2 | L36: 0.1 | M36: DP1 | N36: DP1 | P36: 0.2 | Q36: 0.1 | R36: DR1 | S36: DR1
C37: C | D37: Diversità tra i dipendenti | E37: % | F37: n° dipendenti rientranti nelle categorie individuate/n° dipendenti totali | G37: 1 | H37: 1 | I37: 1 | J37: 2 | K37: 0.2 | L37: 0.1 | M37: DP1 | N37: DP1 | P37: 0.2 | Q37: 0.1 | R37: DR1 | S37: DR1
C38: D | D38: Elementi di sostenibilità per la salute e la sicurezza | E38: / | F38: Documento riepilogativo sulla gestione della salute e della sicurezza all’interno del cantiere | G38: 1 | H38: 1 | I38: 1 | J38: 2 | K38: 0.2 | L38: 0.1 | M38: DP1, DP9 | N38: DP9 | P38: 0.2 | Q38: 0.1 | R38: DR1, DR6 | S38: DR6
